BEGIN:VCALENDAR
VERSION:2.0
PRODID:-//Plone.org//NONSGML plone.app.event//EN
X-WR-TIMEZONE:Brazil/East
BEGIN:VEVENT
SUMMARY:Sessão Extraordinária nº 478/2026 - Dia 24/04/2026
DTSTART;TZID=Brazil/East;VALUE=DATE-TIME:20260424T090000
DTEND;TZID=Brazil/East;VALUE=DATE-TIME:20260424T100000
DTSTAMP;VALUE=DATE-TIME:20260423T181858Z
UID:2e7e3a4240c24649b74237e194c9f309@www.arapora.mg.leg.br
CONTACT:SANDRA FREITAS SANTOS\, 64992157400\, assessoriacamaraarapora@gmai
 l.com
CREATED;VALUE=DATE-TIME:20260423T202006Z
LAST-MODIFIED;VALUE=DATE-TIME:20260423T202010Z
LOCATION:Plenário da Câmara Municipal
URL:https://www.arapora.mg.leg.br/institucional/eventos/sessao-extraordina
 ria-no-478-2026-dia-24-04-2026
END:VEVENT
BEGIN:VEVENT
SUMMARY:Sessão Ordinária nº 1269/2026 - Dia 24/04/2026
DTSTART;TZID=Brazil/East;VALUE=DATE-TIME:20260424T100000
DTEND;TZID=Brazil/East;VALUE=DATE-TIME:20260424T110000
DTSTAMP;VALUE=DATE-TIME:20260423T181858Z
UID:d601767fbf21456184f0a0445cdf7081@www.arapora.mg.leg.br
CONTACT:SANDRA FREITAS SANTOS\, 64992157400\, assessoriacamaraarapora@gmai
 l.com
CREATED;VALUE=DATE-TIME:20260423T201654Z
LAST-MODIFIED;VALUE=DATE-TIME:20260423T201828Z
LOCATION:Plenário da Câmara Municipal
URL:https://www.arapora.mg.leg.br/institucional/eventos/sessao-ordinaria-n
 o-1269-2026-dia-24-04-2026
END:VEVENT
BEGIN:VTIMEZONE
TZID:Brazil/East
X-LIC-LOCATION:Brazil/East
BEGIN:STANDARD
DTSTART;VALUE=DATE-TIME:20260221T230000
TZNAME:BRT
TZOFFSETFROM:-0200
TZOFFSETTO:-0300
END:STANDARD
END:VTIMEZONE
END:VCALENDAR
